BEGIN:VCALENDAR
VERSION:2.0
PRODID:-//Dr. Martha B. Boone - ECPv6.15.20//NONSGML v1.0//EN
CALSCALE:GREGORIAN
METHOD:PUBLISH
X-WR-CALNAME:Dr. Martha B. Boone
X-ORIGINAL-URL:https://marthaboone.com
X-WR-CALDESC:Events for Dr. Martha B. Boone
REFRESH-INTERVAL;VALUE=DURATION:PT1H
X-Robots-Tag:noindex
X-PUBLISHED-TTL:PT1H
BEGIN:VTIMEZONE
TZID:America/New_York
BEGIN:DAYLIGHT
TZOFFSETFROM:-0500
TZOFFSETTO:-0400
TZNAME:EDT
DTSTART:20170312T070000
END:DAYLIGHT
BEGIN:STANDARD
TZOFFSETFROM:-0400
TZOFFSETTO:-0500
TZNAME:EST
DTSTART:20171105T060000
END:STANDARD
BEGIN:DAYLIGHT
TZOFFSETFROM:-0500
TZOFFSETTO:-0400
TZNAME:EDT
DTSTART:20180311T070000
END:DAYLIGHT
BEGIN:STANDARD
TZOFFSETFROM:-0400
TZOFFSETTO:-0500
TZNAME:EST
DTSTART:20181104T060000
END:STANDARD
BEGIN:DAYLIGHT
TZOFFSETFROM:-0500
TZOFFSETTO:-0400
TZNAME:EDT
DTSTART:20190310T070000
END:DAYLIGHT
BEGIN:STANDARD
TZOFFSETFROM:-0400
TZOFFSETTO:-0500
TZNAME:EST
DTSTART:20191103T060000
END:STANDARD
END:VTIMEZONE
BEGIN:VTIMEZONE
TZID:America/Chicago
BEGIN:DAYLIGHT
TZOFFSETFROM:-0600
TZOFFSETTO:-0500
TZNAME:CDT
DTSTART:20170312T080000
END:DAYLIGHT
BEGIN:STANDARD
TZOFFSETFROM:-0500
TZOFFSETTO:-0600
TZNAME:CST
DTSTART:20171105T070000
END:STANDARD
BEGIN:DAYLIGHT
TZOFFSETFROM:-0600
TZOFFSETTO:-0500
TZNAME:CDT
DTSTART:20180311T080000
END:DAYLIGHT
BEGIN:STANDARD
TZOFFSETFROM:-0500
TZOFFSETTO:-0600
TZNAME:CST
DTSTART:20181104T070000
END:STANDARD
BEGIN:DAYLIGHT
TZOFFSETFROM:-0600
TZOFFSETTO:-0500
TZNAME:CDT
DTSTART:20190310T080000
END:DAYLIGHT
BEGIN:STANDARD
TZOFFSETFROM:-0500
TZOFFSETTO:-0600
TZNAME:CST
DTSTART:20191103T070000
END:STANDARD
END:VTIMEZONE
BEGIN:VEVENT
DTSTART;TZID=America/New_York:20180310T140000
DTEND;TZID=America/New_York:20180310T160000
DTSTAMP:20260420T163935
CREATED:20180129T165950Z
LAST-MODIFIED:20230619T164232Z
UID:526-1520690400-1520697600@marthaboone.com
SUMMARY:Joe's Place Bookstore\, Greenville South Carolina: Come Meet Martha B. Boone in Greenville\, SC. "The Big Free"!
DESCRIPTION:Come join me in Greenville\, South Carolina on March 10th from 2:00 PM till 4:00 PM. \n  \nSaturday March 10th from 2 p.m. till 4 p.m. \n Joe’s Place Bookstore \n2 Williams Street \nGreenville\, SC 29601
URL:https://marthaboone.com/event/joes-place-bookstore-greenville-south-carolina-come-meet-martha-b-boone-greenville-sc-big-free/
LOCATION:Joe’s Place Bookstore\, 2 Williams St\, Greenville\, SC\, 29601\, United States
CATEGORIES:Events
ATTACH;FMTTYPE=image/jpeg:https://marthaboone.com/wp-content/uploads/2018/01/18425046_1018661838269558_8773665004671931272_n.jpg
ORGANIZER;CN="Joes Place Bookstore":MAILTO:info@joesplacellc.com
END:VEVENT
BEGIN:VEVENT
DTSTART;VALUE=DATE:20180120
DTEND;VALUE=DATE:20180121
DTSTAMP:20260420T163935
CREATED:20170917T163110Z
LAST-MODIFIED:20230619T164232Z
UID:412-1516406400-1516492799@marthaboone.com
SUMMARY:BOOK SIGNING IN LAS VEGAS!
DESCRIPTION:SWIU 7th Annual Clinical Mentoring Conference
URL:https://marthaboone.com/event/book-signing-in-las-vegas/
LOCATION:Hilton Lake Las Vegas Resort and Spa\, 1610 Lake Las Vegas Pkwy\, Henderson\, NV\, 89011\, United States
END:VEVENT
BEGIN:VEVENT
DTSTART;TZID=America/Chicago:20180112T180000
DTEND;TZID=America/Chicago:20180112T193000
DTSTAMP:20260420T163935
CREATED:20170917T161154Z
LAST-MODIFIED:20230619T164232Z
UID:408-1515780000-1515785400@marthaboone.com
SUMMARY:The Big Free NOLA Book Signing
DESCRIPTION:Martha Boone will be in New Orleans telling stories\, having fun and signing books!\nCome reminisce about Charity !
URL:https://marthaboone.com/event/the-big-free-nola-book-signing/
LOCATION:Garden District Book Shop\, 2727 Prytania Street\, New Orleans\,\, LA\, 70130\, United States
CATEGORIES:Events
END:VEVENT
BEGIN:VEVENT
DTSTART;TZID=America/New_York:20180110T120000
DTEND;TZID=America/New_York:20180110T130000
DTSTAMP:20260420T163935
CREATED:20171207T170455Z
LAST-MODIFIED:20230619T164233Z
UID:457-1515585600-1515589200@marthaboone.com
SUMMARY:Book Signing: 1st Floor Lobby
DESCRIPTION:Book signing for books purchased! \nTuesday\, January 10th\nNoon till one p.m. (12:00 PM – 1:00 PM) \n3400 Old Milton Parkway\nBuilding A – 1st floor lobby\nAlpharetta\, GA 30005 \nSponsored by Bookmiser-Roswell
URL:https://marthaboone.com/event/book-signing-1st-floor-lobby/
LOCATION:Martha B. Boone\, M.D LLC\, 3400 Old Milton Parkway\, Building A\, Suite 560\, Alpharetta\, 30005\, United States
CATEGORIES:Events
ATTACH;FMTTYPE=image/jpeg:https://marthaboone.com/wp-content/uploads/2017/11/24131288_361023241012762_2920671793816897571_n.jpg
END:VEVENT
BEGIN:VEVENT
DTSTART;TZID=America/New_York:20180109T190000
DTEND;TZID=America/New_York:20180109T203000
DTSTAMP:20260420T163935
CREATED:20170616T014106Z
LAST-MODIFIED:20230619T164233Z
UID:212-1515524400-1515529800@marthaboone.com
SUMMARY:The Big Free Paperback – Launch Party
DESCRIPTION:The Big Free print version back will be available for purchase on January 9th\, 2018. \nThe Big Free describes the medical humor and drama in the life of one of the first women surgeons in the busiest trauma surgery program in New Orleans in 1982. The excitement and dark humor of the inner city emergency room is the background for this coming of age story. Only a great story teller with inside knowledge can capture the intimacy of the lives of doctors\, nurses and their patients. Readers will laugh and cry and long to know more of the spirited\, young\, female-doctor protagonist.
URL:https://marthaboone.com/event/the-big-free-paperback-january-9-2018/
LOCATION:Bookmiser\, 4651 Sandy Plains Road\, Roswell\, GA\, 30075\, United States
CATEGORIES:Events
ATTACH;FMTTYPE=image/png:https://marthaboone.com/wp-content/uploads/2017/06/the-big-free.-e1503506455265.png
ORGANIZER;CN="Martha B. Boone":MAILTO:info@marthaboone.com
END:VEVENT
END:VCALENDAR